BEGIN:VCALENDAR
VERSION:2.0
PRODID:-//IBO - ECPv6.15.17.1//NONSGML v1.0//EN
CALSCALE:GREGORIAN
METHOD:PUBLISH
X-ORIGINAL-URL:https://meetibo.com
X-WR-CALDESC:Events for IBO
REFRESH-INTERVAL;VALUE=DURATION:PT1H
X-Robots-Tag:noindex
X-PUBLISHED-TTL:PT1H
BEGIN:VTIMEZONE
TZID:America/New_York
BEGIN:DAYLIGHT
TZOFFSETFROM:-0500
TZOFFSETTO:-0400
TZNAME:EDT
DTSTART:20250309T070000
END:DAYLIGHT
BEGIN:STANDARD
TZOFFSETFROM:-0400
TZOFFSETTO:-0500
TZNAME:EST
DTSTART:20251102T060000
END:STANDARD
BEGIN:DAYLIGHT
TZOFFSETFROM:-0500
TZOFFSETTO:-0400
TZNAME:EDT
DTSTART:20260308T070000
END:DAYLIGHT
BEGIN:STANDARD
TZOFFSETFROM:-0400
TZOFFSETTO:-0500
TZNAME:EST
DTSTART:20261101T060000
END:STANDARD
BEGIN:DAYLIGHT
TZOFFSETFROM:-0500
TZOFFSETTO:-0400
TZNAME:EDT
DTSTART:20270314T070000
END:DAYLIGHT
BEGIN:STANDARD
TZOFFSETFROM:-0400
TZOFFSETTO:-0500
TZNAME:EST
DTSTART:20271107T060000
END:STANDARD
END:VTIMEZONE
BEGIN:VEVENT
DTSTART;TZID=America/New_York:20260204T180000
DTEND;TZID=America/New_York:20260204T180000
DTSTAMP:20260423T182517
CREATED:20260115T151910Z
LAST-MODIFIED:20260115T161934Z
UID:10000021-1770228000-1770228000@meetibo.com
SUMMARY:HASSEL Corporate Happy Hour
DESCRIPTION:We are excited to invite you to the IBO team mashup at South Shore Brewery on February 4th. Both IBO members and guests are invited to this corporate happy hour. \nIncludes: \n\nA Guided Brewery Tour\nFinger Sandwiches\nA Pint or Flight\n\nRSVP today by emailing tina@haggertymunz.com
URL:https://meetibo.com/event/hassel-corporate-happy-hour/
LOCATION:South Shore Craft Brewery\, 3505 Hampton Road\, Oceanside\, NY\, 11572\, United States
ATTACH;FMTTYPE=image/jpeg:https://meetibo.com/wp-content/uploads/2026/01/Copy-of-HASSEL-Happy-Hour-Feb-4th.jpg
END:VEVENT
END:VCALENDAR