BEGIN:VCALENDAR
VERSION:2.0
PRODID:-//IBO - ECPv6.15.17.1//NONSGML v1.0//EN
CALSCALE:GREGORIAN
METHOD:PUBLISH
X-ORIGINAL-URL:https://meetibo.com
X-WR-CALDESC:Events for IBO
REFRESH-INTERVAL;VALUE=DURATION:PT1H
X-Robots-Tag:noindex
X-PUBLISHED-TTL:PT1H
BEGIN:VTIMEZONE
TZID:America/New_York
BEGIN:DAYLIGHT
TZOFFSETFROM:-0500
TZOFFSETTO:-0400
TZNAME:EDT
DTSTART:20240310T070000
END:DAYLIGHT
BEGIN:STANDARD
TZOFFSETFROM:-0400
TZOFFSETTO:-0500
TZNAME:EST
DTSTART:20241103T060000
END:STANDARD
BEGIN:DAYLIGHT
TZOFFSETFROM:-0500
TZOFFSETTO:-0400
TZNAME:EDT
DTSTART:20250309T070000
END:DAYLIGHT
BEGIN:STANDARD
TZOFFSETFROM:-0400
TZOFFSETTO:-0500
TZNAME:EST
DTSTART:20251102T060000
END:STANDARD
BEGIN:DAYLIGHT
TZOFFSETFROM:-0500
TZOFFSETTO:-0400
TZNAME:EDT
DTSTART:20260308T070000
END:DAYLIGHT
BEGIN:STANDARD
TZOFFSETFROM:-0400
TZOFFSETTO:-0500
TZNAME:EST
DTSTART:20261101T060000
END:STANDARD
BEGIN:DAYLIGHT
TZOFFSETFROM:-0500
TZOFFSETTO:-0400
TZNAME:EDT
DTSTART:20270314T070000
END:DAYLIGHT
BEGIN:STANDARD
TZOFFSETFROM:-0400
TZOFFSETTO:-0500
TZNAME:EST
DTSTART:20271107T060000
END:STANDARD
END:VTIMEZONE
BEGIN:VTIMEZONE
TZID:UTC
BEGIN:STANDARD
TZOFFSETFROM:+0000
TZOFFSETTO:+0000
TZNAME:UTC
DTSTART:20240101T000000
END:STANDARD
END:VTIMEZONE
BEGIN:VEVENT
DTSTART;TZID=America/New_York:20260417T080000
DTEND;TZID=America/New_York:20260417T100000
DTSTAMP:20260423T172355
CREATED:20260204T165526Z
LAST-MODIFIED:20260331T134506Z
UID:10000023-1776412800-1776420000@meetibo.com
SUMMARY:Business Development Breakfast
DESCRIPTION:Join us for IBO’s Business Development Networking Breakfast on April 17\, 2026 from 8-10 AM \n\nA deep dive into to Expanding Your Market Influence\nAn engaging professional development workshop\nNetworking with fellow business professionals\nContinental breakfast provided
URL:https://meetibo.com/event/business-development-breakfast-4-17-26/
LOCATION:Social Networking Hub\, 25 Melville Park Rd\, Melville
ATTACH;FMTTYPE=image/png:https://meetibo.com/wp-content/uploads/2026/02/Business.png
ORGANIZER;CN="Claudia":MAILTO:Claudia@meetibo.com
END:VEVENT
BEGIN:VEVENT
DTSTART;TZID=America/New_York:20260412T120000
DTEND;TZID=America/New_York:20260412T170000
DTSTAMP:20260423T172355
CREATED:20260319T133358Z
LAST-MODIFIED:20260319T133358Z
UID:10000029-1775995200-1776013200@meetibo.com
SUMMARY:Great American Jewelry Gold & Silver Extravaganza
DESCRIPTION:Great American Jewelry Gold & Silver Extravaganza!\nGold prices are at an all-time high right now.\nIf you’ve been thinking about selling old jewelry\, coins\, or silver\, this is a great time to find out what your items may be worth\nJoin us on April 12\, Great American Jewelry is hosting a Gold Buying Event in The Mariott – Uniondale NY. \nFor over 50 years\, we’ve helped individuals and families receive competitive offers for gold\, silver\, and estate jewelry in a secure and professional setting. \nBring your items for a private evaluation and immediate offer – no obligation to sell.\nWe are currently buying:\n• Gold jewelry (even broken or outdated pieces)\n• Estate jewelry collections\n• Sterling silver flatware and decorative items\n• Gold & silver coins\n• Diamonds\n• Luxury watches\n• Scrap gold and dental gold \n\n\n$10 Entry fee waived with a pre-booked appointment. \nBook your spot now –  https://tinyurl.com/y3x2vmhz\nOr call us at (516) 279-6752 for any questions
URL:https://meetibo.com/event/great-american-jewelry-gold-silver-extravaganza/
ATTACH;FMTTYPE=image/jpeg:https://meetibo.com/wp-content/uploads/2026/03/Great-American-Jewlery.jpg
ORGANIZER;CN="Claudia":MAILTO:Claudia@meetibo.com
END:VEVENT
BEGIN:VEVENT
DTSTART;TZID=America/New_York:20260320T173000
DTEND;TZID=America/New_York:20260320T200000
DTSTAMP:20260423T172355
CREATED:20251217T164043Z
LAST-MODIFIED:20260302T152226Z
UID:10000019-1774027800-1774036800@meetibo.com
SUMMARY:IBO Bowling Challenge
DESCRIPTION:IBO Bowling Challenge\nConnect with fellow professionals at IBO’s Bowling Challenge\, an evening designed to combine business networking with friendly competition. \nEnjoy two hours of bowling\, shoe rental\, food\, and non-alcoholic beverages at Levittown Lanes on Friday\, March 20\, 2026\, from 6–8 PM. \nTake advantage of Early Bird pricing at $45 through 2/20\, with regular registration at $55.
URL:https://meetibo.com/event/ibo-bowling-challenge/
LOCATION:Levittown Lanes\, 56 Tanners Lane\, Levittown\, NY\, 11756\, United States
ATTACH;FMTTYPE=image/png:https://meetibo.com/wp-content/uploads/2025/12/Bowling-Website-Graphic.png
ORGANIZER;CN="Claudia":MAILTO:Claudia@meetibo.com
END:VEVENT
BEGIN:VEVENT
DTSTART;TZID=America/New_York:20260303T173000
DTEND;TZID=America/New_York:20260303T200000
DTSTAMP:20260423T172355
CREATED:20260217T144231Z
LAST-MODIFIED:20260225T163432Z
UID:10000027-1772559000-1772568000@meetibo.com
SUMMARY:Long Island Mixer
DESCRIPTION:Long Island Mixer\nThe Long Island Mixer Networking Event on Tuesday\, March 3rd is a One-of-a-Kind Quarterly Event: Connecting Local Businesses\, the Hospitality Industry\, Chambers of Commerce\, Community Leaders & the Public. \nMain Event Farmingdale\n1815 Broadhollow Rd Farmingdale\n5:30-9pm\n\nTickets for the 2/23 event are fully valid for the new March 3rd event.\n\n**Anyone wishing to get tickets for the new date can get them at the link below:\n\nhttps://www.eventbrite.com/e/1979227618085\npromo-code “MeetIBO” – just $10 with code (50% off)\n \n 
URL:https://meetibo.com/event/long-island-mixer/
LOCATION:Main Event\, 1815 Broadhollow Road\, Farmingdale\, NY\, 11735\, United States
ATTACH;FMTTYPE=image/png:https://meetibo.com/wp-content/uploads/2026/02/Mixer-Updated-scaled.png
ORGANIZER;CN="Claudia":MAILTO:Claudia@meetibo.com
END:VEVENT
BEGIN:VEVENT
DTSTART;TZID=America/New_York:20260123T080000
DTEND;TZID=America/New_York:20260123T100000
DTSTAMP:20260423T172355
CREATED:20251110T185728Z
LAST-MODIFIED:20251119T171705Z
UID:10000016-1769155200-1769162400@meetibo.com
SUMMARY:Business Development Workshop
DESCRIPTION:Join us at IBO’s Business Development Workshop on January 23\, 2026. \n\nConnect with professionals who can enhance your business\nEnjoy a delicious continental breakfast
URL:https://meetibo.com/event/business-development-workshop-01-23-26/
LOCATION:Social Networking Hub\, 25 Melville Park Rd\, Melville
ATTACH;FMTTYPE=image/png:https://meetibo.com/wp-content/uploads/2025/11/2-2.png
ORGANIZER;CN="Claudia":MAILTO:Claudia@meetibo.com
END:VEVENT
BEGIN:VEVENT
DTSTART;TZID=America/New_York:20251231T080000
DTEND;TZID=America/New_York:20251231T100000
DTSTAMP:20260423T172355
CREATED:20251219T173123Z
LAST-MODIFIED:20251219T174726Z
UID:10000020-1767168000-1767175200@meetibo.com
SUMMARY:Champagne Breakfast
DESCRIPTION:IBO's New Year’s Eve breakfast is one of the most inspirational sharing breakfasts of the year.\nConnect with great people\, Toast the New Year\, Continental Breakfast \n 
URL:https://meetibo.com/event/eoyb/
LOCATION:Social Networking Hub\, 25 Melville Park Rd\, Melville
ATTACH;FMTTYPE=image/png:https://meetibo.com/wp-content/uploads/2025/09/Champagne-Breakfast-Invite.png
ORGANIZER;CN="Claudia":MAILTO:Claudia@meetibo.com
END:VEVENT
BEGIN:VEVENT
DTSTART;TZID=America/New_York:20251216T160000
DTEND;TZID=America/New_York:20251216T193000
DTSTAMP:20260423T172355
CREATED:20251122T204425Z
LAST-MODIFIED:20251204T163021Z
UID:10000018-1765900800-1765913400@meetibo.com
SUMMARY:Great American Jewelry Holiday Party
DESCRIPTION:Great American Jewelry is hosting a Holiday Gathering in their store. \nAs people come in and out you will have the opportunity to network and see amazing jewelry \nWhat to expect : \n\n Jewelry from a vast array of designers\nWatches\nWine and light snacks\nSpecial purchase deals\nNetworking with fellow professionals\nPersonal Shopper to help find your special something.\nMeet IBO members from other teams
URL:https://meetibo.com/event/gaj12-16-25/
LOCATION:Great American Jewelry\, 5163 Merrick Road\, Massapequa Park\, NY\, 11758
ATTACH;FMTTYPE=image/jpeg:https://meetibo.com/wp-content/uploads/2025/11/non-ibo-holiday-flyer.jpg
ORGANIZER;CN="Claudia":MAILTO:Claudia@meetibo.com
END:VEVENT
BEGIN:VEVENT
DTSTART;TZID=UTC:20251205T080000
DTEND;TZID=UTC:20251205T100000
DTSTAMP:20260423T172355
CREATED:20251006T175915Z
LAST-MODIFIED:20251119T171915Z
UID:10000014-1764921600-1764928800@meetibo.com
SUMMARY:Business Development Breakfast
DESCRIPTION:Claudia\n			\n				\n				\n				 \n			\n				\n				\n				\n			\n				\n				\n				Time & Location\n\n			\n				\n				\n				About the Event\nJoin us at IBO’s Business Development Workshop: \n\nDeep dive into maximizing your database potential\nConnect with professionals who can enhance your business\nEnjoy a delicious continental breakfast\n\n			\n				\n				\n				Map
URL:https://meetibo.com/event/business-development-breakfast-12-5-25/
LOCATION:Social Networking Hub\, 25 Melville Park Rd\, Melville
ATTACH;FMTTYPE=image/png:https://meetibo.com/wp-content/uploads/2025/10/Business-Development-Workshop.png
ORGANIZER;CN="Claudia":MAILTO:Claudia@meetibo.com
END:VEVENT
BEGIN:VEVENT
DTSTART;TZID=UTC:20251105T173000
DTEND;TZID=UTC:20251105T200000
DTSTAMP:20260423T172355
CREATED:20250930T192054Z
LAST-MODIFIED:20250930T223955Z
UID:10000013-1762363800-1762372800@meetibo.com
SUMMARY:Mix & Mingle
DESCRIPTION:Claudia\n			\n				\n				\n				 \n			\n				\n				\n				\n			\n				\n				\n				Time & Location\n\n			\n				\n				\n				About the Event\nGreat Networking opportunityThe more\, the merrier! Please invite great networkers to join usNight Activities –Play Darts with your favorite networkers!Have a bite with great connectors \nHave a drink & socializeLight FoodBeer\, wine\, soda & water \n			\n				\n				\n				Map
URL:https://meetibo.com/event/mix-and-mingle-11-2-25/
LOCATION:Social Networking Hub\, 25 Melville Park Rd\, Melville
ATTACH;FMTTYPE=image/png:https://meetibo.com/wp-content/uploads/2025/09/5208b4_31a88268aba2482bafe3b4de33192475mv2.png
ORGANIZER;CN="Claudia":MAILTO:Claudia@meetibo.com
END:VEVENT
END:VCALENDAR