BEGIN:VCALENDAR
VERSION:2.0
PRODID:-//IBO - ECPv6.15.17.1//NONSGML v1.0//EN
CALSCALE:GREGORIAN
METHOD:PUBLISH
X-WR-CALNAME:IBO
X-ORIGINAL-URL:https://meetibo.com
X-WR-CALDESC:Events for IBO
REFRESH-INTERVAL;VALUE=DURATION:PT1H
X-Robots-Tag:noindex
X-PUBLISHED-TTL:PT1H
BEGIN:VTIMEZONE
TZID:America/New_York
BEGIN:DAYLIGHT
TZOFFSETFROM:-0500
TZOFFSETTO:-0400
TZNAME:EDT
DTSTART:20250309T070000
END:DAYLIGHT
BEGIN:STANDARD
TZOFFSETFROM:-0400
TZOFFSETTO:-0500
TZNAME:EST
DTSTART:20251102T060000
END:STANDARD
BEGIN:DAYLIGHT
TZOFFSETFROM:-0500
TZOFFSETTO:-0400
TZNAME:EDT
DTSTART:20260308T070000
END:DAYLIGHT
BEGIN:STANDARD
TZOFFSETFROM:-0400
TZOFFSETTO:-0500
TZNAME:EST
DTSTART:20261101T060000
END:STANDARD
BEGIN:DAYLIGHT
TZOFFSETFROM:-0500
TZOFFSETTO:-0400
TZNAME:EDT
DTSTART:20270314T070000
END:DAYLIGHT
BEGIN:STANDARD
TZOFFSETFROM:-0400
TZOFFSETTO:-0500
TZNAME:EST
DTSTART:20271107T060000
END:STANDARD
END:VTIMEZONE
BEGIN:VEVENT
DTSTART;TZID=America/New_York:20260428T100000
DTEND;TZID=America/New_York:20260428T140000
DTSTAMP:20260423T080628
CREATED:20260416T175259Z
LAST-MODIFIED:20260420T154519Z
UID:10000031-1777370400-1777384800@meetibo.com
SUMMARY:BizConnect 2026 Business Expo
DESCRIPTION:BizConnect 2026 Business Expo\nJoin IBO at the BizConnect 2026 Business Expo on April 28th at Stonebridge Country Club from 10AM-2PM. \nRegister Here:  BizConnect 2026 Business Expo 
URL:https://meetibo.com/event/bizconnect-2026-business-expo/
LOCATION:Stonebridge Country Club\, 2000 Raynors Way\, Smithtown\, NY\, 11787\, United States
ATTACH;FMTTYPE=image/png:https://meetibo.com/wp-content/uploads/2026/04/Screenshot-2026-04-16-134656.png
ORGANIZER;CN="Claudia":MAILTO:Claudia@meetibo.com
END:VEVENT
BEGIN:VEVENT
DTSTART;TZID=America/New_York:20260512T173000
DTEND;TZID=America/New_York:20260512T210000
DTSTAMP:20260423T080628
CREATED:20260325T152826Z
LAST-MODIFIED:20260325T153827Z
UID:10000030-1778607000-1778619600@meetibo.com
SUMMARY:LI Business Expo & Mixer
DESCRIPTION:LI Business Expo & Mixer\nSomething big is coming this Spring…. \n\n\nThe well-known LI Mixer Networking event is joining forces with IBO Closers (one of Long Island’s most successful Networking Groups) to present The Long Island Business Expo & Mixer. \nThis will be an epic event that will feature a large Networking Happy Hour\, A top-rate Business Expo\, Interactive Games and Giveaways and a whole lot more. \n*Admission Fee Covers Entry\, Food for Early Birds\, Discount Drinks and Great Specials. Tickets are $20 in Advance/Online\, $30 at the Door. \n\nRegister Here: Long Island Business Expo & Mixer… Tickets\, Tuesday\, May 12 at 5:30 pm | Eventbrite
URL:https://meetibo.com/event/li-business-expo-mixer/
LOCATION:Patrizia’s of Westbury\, 1177 Corporate Drive\, Westbury\, NY\, 11590\, United States
ATTACH;FMTTYPE=image/png:https://meetibo.com/wp-content/uploads/2026/03/Screenshot-2026-03-25-112559.png
ORGANIZER;CN="Claudia":MAILTO:Claudia@meetibo.com
END:VEVENT
BEGIN:VEVENT
DTSTART;TZID=America/New_York:20260612T183000
DTEND;TZID=America/New_York:20260612T230000
DTSTAMP:20260423T080629
CREATED:20260316T140213Z
LAST-MODIFIED:20260316T140603Z
UID:10000028-1781289000-1781305200@meetibo.com
SUMMARY:General Needs 3rd Annual Gala
DESCRIPTION:General Needs 3rd Annual Gala\n\nJoin us for General Needs’ 3rd Annual Gala – “Don’t Just Give Thanks\, Give Back!” in support of our Welcome Home Project\, dedicated to serving and supporting our veterans. \n\n\nEnjoy an extraordinary evening at Leonard’s Palazzo featuring a full dining experience\, handcrafted cocktails\, and an inspiring program that highlights how General Needs provides critical support to veterans on their path to building a home. \nCLICK HERE TO REGISTER: General Needs 3rd Annual Gala | Eventbrite
URL:https://meetibo.com/event/general-needs-3rd-annual-gala/
LOCATION:Leonard’s Palazzo\, 555 Northern Boulevard\, Great Neck\, NY\, 11021\, United States
ATTACH;FMTTYPE=image/png:https://meetibo.com/wp-content/uploads/2026/03/Screenshot-2026-03-16-100108.png
ORGANIZER;CN="Claudia":MAILTO:Claudia@meetibo.com
END:VEVENT
BEGIN:VEVENT
DTSTART;TZID=America/New_York:20260717T080000
DTEND;TZID=America/New_York:20260717T100000
DTSTAMP:20260423T080629
CREATED:20260204T174728Z
LAST-MODIFIED:20260204T175308Z
UID:10000024-1784275200-1784282400@meetibo.com
SUMMARY:Business Development Breakfast
DESCRIPTION:Join us for IBO’s Business Development Breakfast on July 17\, 2026 \n\nAn engaging professional development workshop\nNetworking with fellow business professionals\nContinental breakfast provided
URL:https://meetibo.com/event/business-development-breakfast-7-17-26/
LOCATION:Social Networking Hub\, 25 Melville Park Rd\, Melville
ATTACH;FMTTYPE=image/png:https://meetibo.com/wp-content/uploads/2026/02/Biz-Dev-Breakfast-7-17-26.png
ORGANIZER;CN="Claudia":MAILTO:Claudia@meetibo.com
END:VEVENT
BEGIN:VEVENT
DTSTART;TZID=America/New_York:20261009T080000
DTEND;TZID=America/New_York:20261009T100000
DTSTAMP:20260423T080629
CREATED:20260204T175033Z
LAST-MODIFIED:20260204T175230Z
UID:10000025-1791532800-1791540000@meetibo.com
SUMMARY:Business Development Breakfast
DESCRIPTION:Join us for IBO’s Business Development Breakfast on October 9\, 2026 \n\nAn engaging professional development workshop\nNetworking with fellow business professionals\nContinental breakfast provided
URL:https://meetibo.com/event/business-development-breakfast-10-9-26/
LOCATION:Social Networking Hub\, 25 Melville Park Rd\, Melville
ATTACH;FMTTYPE=image/png:https://meetibo.com/wp-content/uploads/2026/02/BUSINE2.png
ORGANIZER;CN="Claudia":MAILTO:Claudia@meetibo.com
END:VEVENT
BEGIN:VEVENT
DTSTART;TZID=America/New_York:20261231T080000
DTEND;TZID=America/New_York:20261231T100000
DTSTAMP:20260423T080629
CREATED:20260204T161525Z
LAST-MODIFIED:20260204T161650Z
UID:10000022-1798704000-1798711200@meetibo.com
SUMMARY:Champagne Breakfast
DESCRIPTION:IBO’s New Year’s Eve breakfast is one of the most inspirational sharing breakfasts of the year. \nConnect with great people and toast to the New Year with a delicious continental breakfast.\n 
URL:https://meetibo.com/event/champagne-breakfast/
LOCATION:Social Networking Hub\, 25 Melville Park Rd\, Melville
ATTACH;FMTTYPE=image/png:https://meetibo.com/wp-content/uploads/2026/02/New-Years-Eve-Champaign-Breakfast.png
ORGANIZER;CN="Claudia":MAILTO:Claudia@meetibo.com
END:VEVENT
END:VCALENDAR